BEGIN:VCALENDAR
VERSION:2.0
PRODID:-//Plone.org//NONSGML plone.app.event//EN
X-WR-TIMEZONE:Europe/Zurich
BEGIN:VEVENT
SUMMARY:PRTG Webinar: Monitor Your Azure & AWS Environments with PRTG (Eng
 lish)
DTSTART;TZID=Europe/Zurich;VALUE=DATE-TIME:20260513T170000
DTEND;TZID=Europe/Zurich;VALUE=DATE-TIME:20260513T174500
DTSTAMP;VALUE=DATE-TIME:20260421T153017Z
UID:2e48acc24b4b4f7bad8fbf54eb5f81bb
CATEGORIES:Paessler - PRTG
CREATED;VALUE=DATE-TIME:20160223T083039Z
DESCRIPTION:Struggling to keep visibility across Microsoft Azure and Amazo
 n Web Services while performance issues and rising costs slip through the 
 cracks? In this live demo\, discover how Paessler PRTG helps you regain co
 ntrol with unified monitoring\, cost transparency\, and full oversight acr
 oss either or both platforms.
LAST-MODIFIED;VALUE=DATE-TIME:20260421T094734Z
LOCATION:Webinar
URL:http://www.omicron.ch/omicron/de/kurse-events/prtg_webinar_amer_13may2
 6
END:VEVENT
BEGIN:VTIMEZONE
TZID:Europe/Zurich
X-LIC-LOCATION:Europe/Zurich
BEGIN:DAYLIGHT
DTSTART;VALUE=DATE-TIME:20260329T030000
TZNAME:CEST
TZOFFSETFROM:+0100
TZOFFSETTO:+0200
END:DAYLIGHT
END:VTIMEZONE
END:VCALENDAR
